BEGIN:VCALENDAR
VERSION:2.0
PRODID:-//Squarespace Inc/Squarespace 6//v6//EN
BEGIN:VEVENT
UID:5b8cafcfc2241bd6c2d22f45@squarespace.com
DTSTAMP:20181129T044159Z
DTSTART:20181122T000000Z
DTEND:20190106T030000Z
SUMMARY:Reflections of an Era: Bill Odd | Stanthorpe Pottery Club | Homes o
 f The Guardians: Louise Grayson | Youthful Impressions: Senior Visual Arts 
 Students Stanthorpe State High School
GEO:-28.653781;151.933043
LOCATION:Stanthorpe Regional Art Gallery\, 56 Lock Street\, Stanthorpe\, QL
 D\, 4380\, Australia
END:VEVENT
END:VCALENDAR
