BEGIN:VCALENDAR
VERSION:2.0
PRODID:-//Squarespace Inc/Squarespace 6//v6//EN
BEGIN:VEVENT
UID:5d9a823ff4429f27c0dff308@squarespace.com
DTSTAMP:20191007T001247Z
DTSTART:20191027T000000Z
DTEND:20191027T013000Z
SUMMARY:Gallery Tour and Meet the Margaret Olley's with the Director Mary F
 indlay
END:VEVENT
END:VCALENDAR
