BEGIN:VCALENDAR
VERSION:2.0
PRODID:-//Squarespace Inc/Squarespace 6//v6//EN
BEGIN:VEVENT
UID:5d6c838868abb200011a89e4@squarespace.com
DTSTAMP:20191118T001741Z
DTSTART:20191122T080000Z
DTEND:20191122T090000Z
SUMMARY:Exhibition opening night
END:VEVENT
END:VCALENDAR
