BEGIN:VCALENDAR
VERSION:2.0
PRODID:-//Squarespace Inc/Squarespace 6//v6//EN
BEGIN:VEVENT
UID:5cc678cdee6eb05d61a04d82@squarespace.com
DTSTAMP:20190715T002952Z
DTSTART:20190705T080000Z
DTEND:20190818T030000Z
SUMMARY:LAP It Up - Local Art Prize
END:VEVENT
END:VCALENDAR
