BEGIN:VCALENDAR
VERSION:2.0
PRODID:-//Squarespace Inc/Squarespace 6//v6//EN
BEGIN:VEVENT
UID:5ded81d11704ea192025407a@squarespace.com
DTSTAMP:20200124T055420Z
DTSTART:20200220T000000Z
DTEND:20200405T030000Z
SUMMARY:LAF Out Loud - Local Art Fest
END:VEVENT
END:VCALENDAR
