BEGIN:VCALENDAR
VERSION:2.0
PRODID:-//Squarespace Inc/Squarespace 6//v6//EN
BEGIN:VEVENT
UID:5e435dc6685c425c5d4f29b4@squarespace.com
DTSTAMP:20200212T020948Z
DTSTART:20200407T000000Z
DTEND:20200407T013000Z
SUMMARY:School holiday workshop
END:VEVENT
END:VCALENDAR
