BEGIN:VCALENDAR
VERSION:2.0
PRODID:-//Squarespace Inc/Squarespace 6//v6//EN
BEGIN:VEVENT
UID:5b8cfd4b03ce641ab2000ba0@squarespace.com
DTSTAMP:20191027T230110Z
DTSTART:20191119T230000Z
DTEND:20191120T020000Z
SUMMARY:Crafty Artists - every Wednesday morning
END:VEVENT
END:VCALENDAR
